BEGIN:VCALENDAR
VERSION:2.0
PRODID:-//Dermatology Authority - ECPv5.16.4//NONSGML v1.0//EN
CALSCALE:GREGORIAN
METHOD:PUBLISH
X-WR-CALNAME:Dermatology Authority
X-ORIGINAL-URL:https://thedermatologyauthority.com
X-WR-CALDESC:Events for Dermatology Authority
BEGIN:VTIMEZONE
TZID:UTC
BEGIN:STANDARD
TZOFFSETFROM:+0000
TZOFFSETTO:+0000
TZNAME:UTC
DTSTART:20260101T000000
END:STANDARD
END:VTIMEZONE
BEGIN:VEVENT
DTSTART;VALUE=DATE:20260429
DTEND;VALUE=DATE:20260504
DTSTAMP:20260422T061514
CREATED:20251104T163408Z
LAST-MODIFIED:20260107T123917Z
UID:23086-1777420800-1777852799@thedermatologyauthority.com
SUMMARY:American College of Mohs
DESCRIPTION:Designed primarily for ACMS members\, the purpose of the Annual Meeting is for members to attend scientific educational sessions for continuing medical education. The Annual Meeting consists of masters’ panels\, interactive sessions\, hands-on workshop\, and oral and poster abstract presentations featuring the latest developments in Mohs and dermatologic surgery. Topics will include cutaneous oncology and pathology\, fundamentals of dermatologic surgery\, advanced reconstruction\, and more. \nThe target audiences for these programs include members of the ACMS\, dermatology residents and Fellows-in-Training\, non-member physicians and surgical assistants who work with ACMS members.
URL:https://thedermatologyauthority.com/conference/american-college-of-mohs/
LOCATION:Austin\, Texas
ATTACH;FMTTYPE=image/jpeg:https://thedermatologyauthority.com/wp-content/uploads/2025/11/American-College-of-Mohs-2026.jpg
END:VEVENT
END:VCALENDAR