BEGIN:VCALENDAR
VERSION:2.0
PRODID:-//Dermatology Authority - ECPv5.16.4//NONSGML v1.0//EN
CALSCALE:GREGORIAN
METHOD:PUBLISH
X-WR-CALNAME:Dermatology Authority
X-ORIGINAL-URL:https://thedermatologyauthority.com
X-WR-CALDESC:Events for Dermatology Authority
BEGIN:VTIMEZONE
TZID:UTC
BEGIN:STANDARD
TZOFFSETFROM:+0000
TZOFFSETTO:+0000
TZNAME:UTC
DTSTART:20260101T000000
END:STANDARD
END:VTIMEZONE
BEGIN:VEVENT
DTSTART;VALUE=DATE:20260507
DTEND;VALUE=DATE:20260510
DTSTAMP:20260422T062259
CREATED:20251104T164017Z
LAST-MODIFIED:20260106T150352Z
UID:23088-1778112000-1778371199@thedermatologyauthority.com
SUMMARY:ASLMS 45th Annual Conference
DESCRIPTION:Save the Date for ASLMS 2026\, May 7-9\, 2026\, in Savannah\, Georgia!\nASLMS is in its fifth decade as a world leader in promoting excellence in patient care by advancing the biomedical applications of lasers and energy-based technologies. If you work with medical lasers or other energy-based devices in a clinical\, research\, educational\, or manufacturing capacity—and are committed to continuously improving patient care—this conference is for you.
URL:https://thedermatologyauthority.com/conference/aslms-45th-annual-conference/
LOCATION:Savannah\, Georgia\, Savannah\, GA\, United States
ATTACH;FMTTYPE=image/jpeg:https://thedermatologyauthority.com/wp-content/uploads/2025/11/ASLMS-45th-Annual-Conference-2026.jpg
END:VEVENT
END:VCALENDAR